BEGIN:VCALENDAR
VERSION:2.0
PRODID:-//Tukios.com/
BEGIN:VEVENT
UID:f0f65060-ff37-4f17-a3e3-b7f18bd69978@www.whitakerfuneralhome.com
DTSTAMP:20260420T081207Z
DTSTART:20260418T140000Z
DTEND:20260418T150000Z
SUMMARY:Mass of Christian Burial
DESCRIPTION:
URL:https://www.whitakerfuneralhome.com/obituaries/angelina-ploussard
LOCATION: 195 Amicks Ferry Road  Chapin SC 29036
GEO:34.1619682;-81.3552381
END:VEVENT
END:VCALENDAR